BEGIN:VCALENDAR
VERSION:2.0
PRODID:-//jEvents 2.0 for Joomla//EN
CALSCALE:GREGORIAN
METHOD:PUBLISH
BEGIN:VEVENT
UID:f4db694ced935205fe2314137dab69c3
CATEGORIES:Kunsthandwerk
CREATED:20210607T171346
SUMMARY: Großer Handgemacht-Markt in Petersdorf 
DESCRIPTION:<p>Einen herrlich kreativen Sommermarkt erwartet die Einheimischen wie natü
 rlich auch die Touristen an diesem Wochenende. Aussteller aus der gesamten 
 Bundesrepublik sind wieder mit dabei. Töpfer, Drechsler, Bürstenmacher, Sat
 tler , Textil- und Schmuckdesigner. Anbieter aus dem kulinarischen Bereich 
 ergänzen das vielfältige besondere Angebot.</p><p>Hinweis:<br />Aufgrund de
 s aktuellen Infektionsgeschehens rund um das Corona-Virus weisen wir darauf
  hin, dass geplante Veranstaltungen auch kurzfristig verschoben / abgesagt 
 werden können oder mit einem veränderten Konzept stattfinden. Wir bitten um
  Verständnis.</p>
DTSTAMP:20260422T013845
DTSTART:20210821T090000
DTEND:20210823T160000
SEQUENCE:0
TRANSP:OPAQUE
END:VEVENT
END:VCALENDAR