BEGIN:VCALENDAR
VERSION:2.0
PRODID:-//jEvents 2.0 for Joomla//EN
CALSCALE:GREGORIAN
METHOD:PUBLISH
BEGIN:VEVENT
UID:4051c6a90622091073b3a11c101114af
CATEGORIES:Kulturevent
CREATED:20220711T094618
SUMMARY:Führung "Gesamtkunstwerke von Arne Jacobsen und Otto Weitling"
LOCATION:Burgtiefe\, Haus des Gastes
DESCRIPTION:Führung im Rahmen der Ausstellung "Gesamtkunstwerke von Arne Jacobsen und O
 tto Weitling" mit Herrn Ehlers.\nEr wird ca. 60 Minuten über die Eigenschaf
 ten dieser Architektur und den Gedanken von Arne Jacobsen und Otto Weitling
  erzählen. \nTreffpunkt ist vor dem Haus des Gastes, empfehlenswert ab 14 J
 ahren.\n
X-ALT-DESC;FMTTYPE=text/html:<p>Führung im Rahmen der Ausstellung "Gesamtkunstwerke von Arne Jacobsen un
 d Otto Weitling" mit Herrn Ehlers.<br />Er wird ca. 60 Minuten über die Eig
 enschaften dieser Architektur und den Gedanken von Arne Jacobsen und Otto W
 eitling erzählen. <br />Treffpunkt ist vor dem Haus des Gastes, empfehlensw
 ert ab 14 Jahren.</p>
CONTACT:fehmarn.de
DTSTAMP:20260420T160116
DTSTART:20220714T150000
DTEND:20220714T160000
SEQUENCE:0
TRANSP:OPAQUE
END:VEVENT
END:VCALENDAR