BEGIN:VCALENDAR
VERSION:2.0
PRODID:-//jEvents 2.0 for Joomla//EN
CALSCALE:GREGORIAN
METHOD:PUBLISH
BEGIN:VEVENT
UID:617f8b1bcf0a5a0f88e1ff0b266b1759
CATEGORIES:Kulturevent
CREATED:20220704T230210
SUMMARY:Schleswig-Holstein Musik Festival - Spielfreunde
LOCATION:Hof Johannisberg auf Fehmarn
DESCRIPTION:Ein Cello, eine Stimme, ein Akkordeon. Reduktion aufs Wesentliche, auf natü
 rliche Klänge. Marie Spaemann und Christian Bakanic aus Wien beherrschen ih
 re Instrumente meisterhaft und lassen deren lange, weit verästelte Geschich
 te in farbintensiven Details aufleuchten. Wesentlich für das virtuose Duo i
 st jedoch, wie elegant und gleichzeitig entschlossen es verschiedene Tradit
 ionen als Sprungbrett für eigene Ideen nutzt. Die individuelle Stilfusion t
 rägt einerseits wunderbar feinsinnige kammermusikalische Züge. Andererseits
  bietet sie mit klaren Melodien, ansteckenden Rhythmen und dem Soul in Spae
 manns variabler Stimme Anknüpfungspunkte für Pop-Fans. Wenn dann noch Spiel
 arten von klassischer Moderne, Ideen des Tango Nuevo, des europäischen Folk
  und Jazz hinzukommen, entsteht eine beeindruckend unkonventionelle, fantas
 ievolle Klangsprache. In ihrem aktuellen Programm »Metamorphosis« – welches
  Spaemann und Bakanic unlängst auch als Debutalbum veröffentlichten – verwa
 ndeln die beiden Künstler ihre unterschiedlichen Einflüsse zu einer tiefgrü
 ndigen, so noch nie gehörten Einheit.\n
X-ALT-DESC;FMTTYPE=text/html:<p>Ein Cello, eine Stimme, ein Akkordeon. Reduktion aufs Wesentliche, auf n
 atürliche Klänge. Marie Spaemann und Christian Bakanic aus Wien beherrschen
  ihre Instrumente meisterhaft und lassen deren lange, weit verästelte Gesch
 ichte in farbintensiven Details aufleuchten. Wesentlich für das virtuose Du
 o ist jedoch, wie elegant und gleichzeitig entschlossen es verschiedene Tra
 ditionen als Sprungbrett für eigene Ideen nutzt. Die individuelle Stilfusio
 n trägt einerseits wunderbar feinsinnige kammermusikalische Züge. Andererse
 its bietet sie mit klaren Melodien, ansteckenden Rhythmen und dem Soul in S
 paemanns variabler Stimme Anknüpfungspunkte für Pop-Fans. Wenn dann noch Sp
 ielarten von klassischer Moderne, Ideen des Tango Nuevo, des europäischen F
 olk und Jazz hinzukommen, entsteht eine beeindruckend unkonventionelle, fan
 tasievolle Klangsprache. In ihrem aktuellen Programm »Metamorphosis« – welc
 hes Spaemann und Bakanic unlängst auch als Debutalbum veröffentlichten – ve
 rwandeln die beiden Künstler ihre unterschiedlichen Einflüsse zu einer tief
 gründigen, so noch nie gehörten Einheit.</p>
CONTACT:fehmarn.de
DTSTAMP:20260422T140015
DTSTART:20220712T173000
DTEND:20220712T193000
SEQUENCE:0
TRANSP:OPAQUE
END:VEVENT
END:VCALENDAR