BEGIN:VCALENDAR
VERSION:2.0
PRODID:-//jEvents 2.0 for Joomla//EN
CALSCALE:GREGORIAN
METHOD:PUBLISH
BEGIN:VEVENT
UID:6fe5cd98b576a62a2bf54da3f7b5cc23
CATEGORIES:Kulturevent
CREATED:20220629T093559
SUMMARY:Aquarellmalen | Mitmach-Aktion auf dem Inselfest
LOCATION:Senator-Thomsen-Park\, Burg/Fehmarn\, Breite Straße 28
DESCRIPTION:Mitmach-Aktion:Samstag:\n11.00 - 13.00 Uhr: Aquarellmalen \n15.00 - 17.00 U
 hr: Plain Air\nmit Patricia Holubek\nam Künstlerzelt der Gemeinschaft Fehma
 rnKultur und Petersdorfer Montagsmaler im Senator-Thomsen-Park, Breite Str.
  28 in Burg\nAlle Infos zu der Veranstaltung auf:  (https://www.fehmarn.de/
 event/inselfest-mit-strassengefluester)<a href="https://www.fehmarn.de/even
 t/inselfest-mit-strassengefluester" target="_blank" rel="noopener">https://
 www.fehmarn.de/event/inselfest-mit-strassengefluester</a> Neu: Das Inselfes
 t mit Straßengeflüster!Zum ersten Mal verwandeln Veranstalter viele bekannt
 e Plätze in Burg auf Fehmarn zu erlebbaren Inseln, an denen Besucherinnen u
 nd Besuchern verschiedene Attraktionen und Aktionen geboten werden. Durch d
 ie einzelnen „Inseln“ in Burg wird der Fokus nicht nur auf den Marktplatz g
 erichtet, sondern die verschiedenen Plätze der Innenstadt miteinander verkn
 üpft. Das Schlendern durch Burg von einem zum anderen Bereich bindet den an
 sässigen Einzelhandel mit ein – die Innenstadt in diesem Jahr nicht gesperr
 t werden.\nKunst- und Handwerkermarkt (Sa. 2. Juli &amp; So. 3. Juli) - Sen
 ator-Thomsen-ParkIm Senator-Thomsen-Park stellen verschiedene Künstlerinnen
  und Künstler ihre Kunstwerke aus und laden zum Stöbern ein. Wer selbst ein
 mal kreativ werden möchte, kann sich an den Mitmach-Aktionen beteiligen und
  sein eigenes Kunstwerk vor Ort erstellen. (Sa. 11-19 Uhr, So. 11-17 Uhr).\
 n Auch die Kunstausstellung des Ernst Ludwig Kirchner Vereins: Katharina Du
 we - „Off Space“ im Senator-Thomsen-Haus ist jeweils von 11 bis 17 Uhr geöf
 fnet.
X-ALT-DESC;FMTTYPE=text/html:<h4><span style="color: #ff6600; font-family: Arial, sans-serif;"><span sty
 le="color: #ff6600;"><b><span style="color: #ff6600;">Mitmach-Aktion:</span
 ></b></span></span></h4><div class="page" title="Page 1"><div class="layout
 Area"><div class="layoutArea"><p><em>Samstag:</em><br />11.00 - 13.00 Uhr: 
 Aquarellmalen <br />15.00 - 17.00 Uhr: Plain Air<br />mit Patricia Holubek<
 /p><p class="column">am Künstlerzelt der Gemeinschaft FehmarnKultur und Pet
 ersdorfer Montagsmaler im Senator-Thomsen-Park, Breite Str. 28 in Burg</p><
 /div></div></div><div class="yiv2181221740moz-text-html" lang="x-unicode"><
 div><div class="page" title="Page 2"><div class="layoutArea"><div class="co
 lumn"><div class="column"><span style="font-family: Arial, sans-serif;">All
 e Infos zu der Veranstaltung auf:</span> <a href="https://www.fehmarn.de/ev
 ent/inselfest-mit-strassengefluester" class="moz-txt-link-freetext"></a><a 
 href="https://www.fehmarn.de/event/inselfest-mit-strassengefluester" target
 ="_blank" rel="noopener">https://www.fehmarn.de/event/inselfest-mit-strasse
 ngefluester</a></div><div>&nbsp;</div><div><h4>Neu: Das Inselfest mit Straß
 engeflüster!</h4><p>Zum ersten Mal verwandeln Veranstalter viele bekannte P
 lätze in Burg auf Fehmarn zu erlebbaren Inseln, an denen Besucherinnen und 
 Besuchern verschiedene Attraktionen und Aktionen geboten werden. Durch die 
 einzelnen „Inseln“ in Burg wird der Fokus nicht nur auf den Marktplatz geri
 chtet, sondern die verschiedenen Plätze der Innenstadt miteinander verknüpf
 t. Das Schlendern durch Burg von einem zum anderen Bereich bindet den ansäs
 sigen Einzelhandel mit ein – die Innenstadt in diesem Jahr nicht gesperrt w
 erden.</p><h4 class="column"><b>Kunst- und Handwerkermarkt (Sa. 2. Juli &am
 p; So. 3. Juli) - Senator-Thomsen-Park</b></h4><div class="column">Im Senat
 or-Thomsen-Park stellen verschiedene Künstlerinnen und Künstler ihre Kunstw
 erke aus und laden zum Stöbern ein. Wer selbst einmal kreativ werden möchte
 , kann sich an den Mitmach-Aktionen beteiligen und sein eigenes Kunstwerk v
 or Ort erstellen. (Sa. 11-19 Uhr, So. 11-17 Uhr).<br /> Auch die Kunstausst
 ellung des Ernst Ludwig Kirchner Vereins: Katharina Duwe - „Off Space“ im S
 enator-Thomsen-Haus ist jeweils von 11 bis 17 Uhr geöffnet.</div></div></di
 v></div></div></div></div>
CONTACT:fehmarn.de
DTSTAMP:20260420T231709
DTSTART:20220702T090000
DTEND:20220702T110000
SEQUENCE:0
TRANSP:OPAQUE
END:VEVENT
END:VCALENDAR