BEGIN:VCALENDAR
VERSION:2.0
PRODID:-//jEvents 2.0 for Joomla//EN
CALSCALE:GREGORIAN
METHOD:PUBLISH
BEGIN:VEVENT
UID:b80141edbbb697ad83b00fda6109b2da
CATEGORIES:Kulturevent
CREATED:20220612T175555
SUMMARY:Duo Kratschkowski
LOCATION:Filmtheater Burg\, Breite Straße 13
DESCRIPTION:<div class="page" title="Page 1"><div class="section"><div class="layoutAre
 a"><div class="column"><p>Am 25. Juni um 19:30 wird Sie das DUO KRATSCHKOWS
 KI im Filmtheater in Burg musikalisch verzaubern.<br />Veranstalter: Ernst 
 Ludwig Kirchner Verein Fehmarn e.V.</p></div></div></div></div>
CONTACT:kirchnervereinfehmarn.de
DTSTAMP:20260420T185647
DTSTART:20220625T173000
SEQUENCE:0
TRANSP:OPAQUE
END:VEVENT
END:VCALENDAR