BEGIN:VCALENDAR
VERSION:2.0
PRODID:-//jEvents 2.0 for Joomla//EN
CALSCALE:GREGORIAN
METHOD:PUBLISH
BEGIN:VEVENT
UID:fa4face319720dee945ce41a7a4a703e
CATEGORIES:Kulturevent
CREATED:20220326T225124
SUMMARY:Klippenfall - Lesung mit Meike Messal
LOCATION:Burg Filmtheater\, Breite Straße 13\, Burg auf Fehmarn
DESCRIPTION:Klippenfall - Lesung mit Meike Messal\nMeike Messal präsentiert am 22. Apri
 l um 19.00 Uhr den neuen Fehmarn-Krimi „Klippenfall“ im Burg Filmtheater, B
 reite Straße 13.\n Komm schnell. Jemand Ein Mann ist hinter mir her.\n Als 
 Sylke Harmsen diese SMS von ihrer Tochter bekommt, glaubt sie zuerst an ein
 en Scherz. Wer sollte Emilie an der Steilküste Fehmarns verfolgen? Und waru
 m? Ganz sicher läuft da nur ein harmloser Jogger zufaälig in dieselbe Richt
 ung.\nDoch sie folgt der Bitte ihrer Tochter und fährt zum Katharinenhof. K
 urz darauf findet Sylke sich mitten in einem Albtraum wieder. Sie muss um a
 lles kämpfen, was ihr lieb und teuer ist. Ihr Gegner treibt ein diabolische
 s Spiel mit ihr, schreckt vor keinem Mittel zurück.\nNach dem viel gelobten
  „Düsterstrand“ ist dies der zweite Fehmarn-Krimi von Meike Messal. Auch in
  „Klippenfall“ ist Hochspannung garantiert. Ein Muss für alle Liebhaber der
  Insel, die nach einer atemlosen Urlaubslektüre suchen.\n Tickets für 6,00 
 Euro (mit ostseecard 5,00 Euro) sind ab sofort über den Online-Ticketshop a
 uf fehmarn.de/veranstaltungen sowie in den Tourist-Informationen in Burg un
 d Burgtiefe erhältlich. Einlass ist ab 18.00 Uhr.\nVeranstalter: Tourismus-
 Service Fehmarn\n
X-ALT-DESC;FMTTYPE=text/html:<div class="page" title="Page 1"><div class="layoutArea"><div class="column
 "><p>Klippenfall - Lesung mit Meike Messal</p><div class="page" title="Page
  1"><div class="layoutArea"><div class="column"><p>Meike Messal präsentiert
  am 22. April um 19.00 Uhr den neuen Fehmarn-Krimi „Klippenfall“ im Burg Fi
 lmtheater, Breite Straße 13.<br /> Komm schnell. Jemand Ein Mann ist hinter
  mir her.<br /> Als Sylke Harmsen diese SMS von ihrer Tochter bekommt, glau
 bt sie zuerst an einen Scherz. Wer sollte Emilie an der Steilküste Fehmarns
  verfolgen? Und warum? Ganz sicher läuft da nur ein harmloser Jogger zufaäl
 ig in dieselbe Richtung.</p><p>Doch sie folgt der Bitte ihrer Tochter und f
 ährt zum Katharinenhof. Kurz darauf findet Sylke sich mitten in einem Albtr
 aum wieder. Sie muss um alles kämpfen, was ihr lieb und teuer ist. Ihr Gegn
 er treibt ein diabolisches Spiel mit ihr, schreckt vor keinem Mittel zurück
 .</p><p>Nach dem viel gelobten „Düsterstrand“ ist dies der zweite Fehmarn-K
 rimi von Meike Messal. Auch in „Klippenfall“ ist Hochspannung garantiert. E
 in Muss für alle Liebhaber der Insel, die nach einer atemlosen Urlaubslektü
 re suchen.<br /> Tickets für 6,00 Euro (mit ostseecard 5,00 Euro) sind ab s
 ofort über den Online-Ticketshop auf fehmarn.de/veranstaltungen sowie in de
 n Tourist-Informationen in Burg und Burgtiefe erhältlich. Einlass ist ab 18
 .00 Uhr.</p><p>Veranstalter: Tourismus-Service Fehmarn</p></div></div></div
 ></div></div></div>
CONTACT:fehmarn.de
DTSTAMP:20260426T021925
DTSTART:20220422T170000
SEQUENCE:0
TRANSP:OPAQUE
END:VEVENT
END:VCALENDAR