BEGIN:VCALENDAR
VERSION:2.0
PRODID:-//jEvents 2.0 for Joomla//EN
CALSCALE:GREGORIAN
METHOD:PUBLISH
BEGIN:VEVENT
UID:499fd76eb32b27fef63477277d20ef01
CATEGORIES:Allgemein
CREATED:20220301T095815
SUMMARY:Schlafen für die Gesundheit | SH Universitätsgesellschaft – Sektion Fehmarn –
LOCATION:Haus im Stadtpark\, Burg\, Bahnhofstr. 45 a
DESCRIPTION:<h5>Die Schleswig-Holsteinische Universitätsgesellschaft – Sektion Fehmarn 
 – lädt zum Vortrag ein:</h5><h4>Schlafen für die Gesundheit</h4><h5>von Pro
 f. Dr. Robert Göder</h5><p>Ein Drittel unseres Lebens verbringen wir im Sch
 laf. In seinem Vortrag geht Prof. Göder darauf ein, was in unserem Gehirn w
 ährend des Schlafes passiert und welche Bedeutung dieser für den Körper und
  auch für die Psyche hat. Die wichtigsten Funktionen des Schlafs für unsere
  Hirnleistungen, für den Stoffwechsel und das Immunsystem werden erläutert.
  Verschiedene Ursachen der Schlafstörungen und nachteilige Folgen für die G
 esundheit werden dargestellt.<br />Prof. Göder gibt Tipps für einen gesunde
 n Schlaf und Empfehlungen zur Therapie von Schlafstörungen.<br />Gäste sind
  herzlich willkommen.<br />Wir würden uns freuen, Sie zu dem 1. Vortrag in 
 diesem Jahr begrüßen zu können. Es gilt die 3G Regel Test 24h) und Maskenpf
 licht bis zum Sitzplatz.<br />Do., 10. März 2022 um 19.30 Uhr im Haus im St
 adtpark in Burg, Bahnhofstr. 45 a</p>
DTSTAMP:20260425T105103
DTSTART:20220310T183000
SEQUENCE:0
TRANSP:OPAQUE
END:VEVENT
END:VCALENDAR