BEGIN:VCALENDAR
VERSION:2.0
PRODID:-//jEvents 2.0 for Joomla//EN
CALSCALE:GREGORIAN
METHOD:PUBLISH
BEGIN:VEVENT
UID:95d72a4b5a3482d25d03850df2a46ac5
CATEGORIES:Kulturevent
CREATED:20220226T154212
SUMMARY:Architektur von Arne Jacobsen und Otto Weitling in Deutschland
LOCATION:Haus des Gastes\, Burgtiefe auf Fehmarn
DESCRIPTION:Die Formgeber des Funktionalismus\nDie Architektur von Arne Jacobsen und Ot
 to Weitling hat eine herausragende Bedeutung für die Nachkriegsmoderne in D
 eutschland. Zugleich ist die Qualität ihrer Projekte in Vergessenheit gerat
 en. Diese Lücke in der Wahrnehmung möchten die Kuratoren Hendrik Bohle und 
 Jan Dimog mit der Wanderausstellung und der dazugehörigen Publikation schli
 eßen.\nMit acht Projekten in Deutschland haben die beiden dänischen Baumeis
 ter hier die meisten Bauten außerhalb ihrer Heimat realisiert. Erstmals wer
 den sieben Gebäude in einer Wanderausstellung präsentiert. Sie findet im Ra
 hmen des deutsch-dänischen kulturellen Freundschaftsjahres 2020 und anlässl
 ich Jacobsens fünfzigsten Todestages 2021 statt.\n\nWanderausstellung 2020 
 – 2022 in - Berlin - Fehmarn - Mainz - Hannover - Castrop-Rauxel - Hamburg\
 n
X-ALT-DESC;FMTTYPE=text/html:<h4>Die Formgeber des Funktionalismus</h4><p><br />Die Architektur von Arne
  Jacobsen und Otto Weitling hat eine herausragende Bedeutung für die Nachkr
 iegsmoderne in Deutschland. Zugleich ist die Qualität ihrer Projekte in Ver
 gessenheit geraten. Diese Lücke in der Wahrnehmung möchten die Kuratoren He
 ndrik Bohle und Jan Dimog mit der Wanderausstellung und der dazugehörigen P
 ublikation&nbsp;schließen.<br />Mit acht Projekten in Deutschland haben die
  beiden dänischen Baumeister hier die meisten Bauten außerhalb ihrer Heimat
  realisiert. Erstmals werden sieben Gebäude in einer Wanderausstellung präs
 entiert. Sie findet im Rahmen des deutsch-dänischen kulturellen Freundschaf
 tsjahres 2020 und anlässlich Jacobsens fünfzigsten Todestages 2021 statt.<b
 r /><br />Wanderausstellung 2020 – 2022 in - Berlin - <strong>Fehmarn</stro
 ng> - Mainz - Hannover - Castrop-Rauxel - Hamburg</p>
CONTACT:http://gesamtkunstwerke.eu
DTSTAMP:20260420T223542
DTSTART;VALUE=DATE:20220423
DTEND;VALUE=DATE:20220829
SEQUENCE:0
TRANSP:OPAQUE
END:VEVENT
END:VCALENDAR