BEGIN:VCALENDAR
VERSION:2.0
PRODID:-//jEvents 2.0 for Joomla//EN
CALSCALE:GREGORIAN
METHOD:PUBLISH
BEGIN:VEVENT
UID:415638d6fb00a0dd174c18eed560d04f
CATEGORIES:Allgemein
CREATED:20211011T122810
SUMMARY:Universitätsgesellschaft: Bedeutung des Pflanzenschutzes für die Welternährung
LOCATION:Haus im Stadtpark in Burg\, Bahnhofstr. 45 a
DESCRIPTION:Die Universitätsgesellschaft startet wieder mit ihrer Vortragsreihe. Zu uns
 erem 1.Vortrag möchten wir Sie herzlich einladen:\nDo. 14.10.2021 19.30 Uhr
  im Haus im Stadtpark in Burg, Bahnhofstr. 45 a\nProf. Verreet: Bedeutung d
 es Pflanzenschutzes für die Welternährung.\nFür die einen sind Pflanzenschu
 tzmittel ein rotes Tuch und ein ökologischer Irrweg, für andere sind sie un
 verzichtbar, um die von 6 Milliarden im Jahr 2000 auf wahrscheinlich über 9
  Milliarden anwachsende Menschheit im Jahr 2050 mit Nahrungsmitteln zu vers
 orgen. Dabei steht dieser stetig wachsende Weltbevölkerung immer weniger Ac
 kerland pro Kopf zur Verfügung. Gleichzeitig soll Landwirtschaft neben Nahr
 ungsmittel- auch noch Rohstoff- und Energieversorger sein. Kann diese Herau
 sforderung für die Welt-Agrarwirtschaft ohne chemischen Pflanzenschutz geli
 ngen? Über welche innovativen Ansätze wird geforscht? Darüber wird Prof. Ve
 rreet, Direktor des Instituts für Phytopathologie der Universität Kiel beri
 chten.\nGäste sind herzlich willkommen. Wegen der begrenzten Anzahl an zuge
 lassenen Teilnehmern ist eine vorherige Anmeldung nötig. Bitte melden Sie s
 ich an bei Silke Struve-Blanck, E-Mail: Diese E-Mail-Adresse ist vor Spambo
 ts geschützt! Zur Anzeige muss JavaScript eingeschaltet sein!
				document.
 getElementById('cloak09ba349df5b1acfc329bfb8708a359ae').innerHTML = '';
			
 	var prefix = '&#109;a' + 'i&#108;' + '&#116;o';
				var path = 'hr' + 'ef'
  + '=';
				var addy09ba349df5b1acfc329bfb8708a359ae = 's&#105;lk&#101;.bl&
 #97;nck' + '&#64;';
				addy09ba349df5b1acfc329bfb8708a359ae = addy09ba349d
 f5b1acfc329bfb8708a359ae + 't-&#111;nl&#105;n&#101;' + '&#46;' + 'd&#101;';
 
				var addy_text09ba349df5b1acfc329bfb8708a359ae = 's&#105;lk&#101;.bl&#9
 7;nck' + '&#64;' + 't-&#111;nl&#105;n&#101;' + '&#46;' + 'd&#101;';document
 .getElementById('cloak09ba349df5b1acfc329bfb8708a359ae').innerHTML += '<a '
  + path + '\'' + prefix + ':' + addy09ba349df5b1acfc329bfb8708a359ae + '\'>
 '+addy_text09ba349df5b1acfc329bfb8708a359ae+'';
		  oder Tel. 04372-8060526
 .\nWir würden uns freuen, Sie zum 1.Vortrag begrüßen zu können. Es gilt die
  3G Regel (Test 24 h) und Maskenpflicht bis zum Sitzplatz.\n
X-ALT-DESC;FMTTYPE=text/html:<p>Die Universitätsgesellschaft startet wieder mit ihrer Vortragsreihe. Zu 
 unserem 1.Vortrag möchten wir Sie herzlich einladen:</p><p><strong>Do. 14.1
 0.2021 19.30 Uhr im Haus im Stadtpark in Burg, Bahnhofstr. 45 a<br /></stro
 ng><strong>Prof. Verreet: Bedeutung des Pflanzenschutzes für die Welternähr
 ung</strong>.</p><p>Für die einen sind Pflanzenschutzmittel ein rotes Tuch 
 und ein ökologischer Irrweg, für andere sind sie unverzichtbar, um die von 
 6 Milliarden im Jahr 2000 auf wahrscheinlich über 9 Milliarden anwachsende 
 Menschheit im Jahr 2050 mit Nahrungsmitteln zu versorgen. Dabei steht diese
 r stetig wachsende Weltbevölkerung immer weniger Ackerland pro Kopf zur Ver
 fügung. Gleichzeitig soll Landwirtschaft neben Nahrungsmittel- auch noch Ro
 hstoff- und Energieversorger sein. Kann diese Herausforderung für die Welt-
 Agrarwirtschaft ohne chemischen Pflanzenschutz gelingen? Über welche innova
 tiven Ansätze wird geforscht? Darüber wird Prof. Verreet, Direktor des Inst
 ituts für Phytopathologie der Universität Kiel berichten.<br />Gäste sind h
 erzlich willkommen. Wegen der begrenzten Anzahl an zugelassenen Teilnehmern
  ist eine vorherige Anmeldung nötig. Bitte melden Sie sich an bei Silke Str
 uve-Blanck, E-Mail: <span id="cloak09ba349df5b1acfc329bfb8708a359ae">Diese 
 E-Mail-Adresse ist vor Spambots geschützt! Zur Anzeige muss JavaScript eing
 eschaltet sein!</span><script type='text/javascript'>
				document.getEleme
 ntById('cloak09ba349df5b1acfc329bfb8708a359ae').innerHTML = '';
				var pre
 fix = '&#109;a' + 'i&#108;' + '&#116;o';
				var path = 'hr' + 'ef' + '=';

 				var addy09ba349df5b1acfc329bfb8708a359ae = 's&#105;lk&#101;.bl&#97;nck'
  + '&#64;';
				addy09ba349df5b1acfc329bfb8708a359ae = addy09ba349df5b1acfc
 329bfb8708a359ae + 't-&#111;nl&#105;n&#101;' + '&#46;' + 'd&#101;';
				var
  addy_text09ba349df5b1acfc329bfb8708a359ae = 's&#105;lk&#101;.bl&#97;nck' +
  '&#64;' + 't-&#111;nl&#105;n&#101;' + '&#46;' + 'd&#101;';document.getElem
 entById('cloak09ba349df5b1acfc329bfb8708a359ae').innerHTML += '<a ' + path 
 + '\'' + prefix + ':' + addy09ba349df5b1acfc329bfb8708a359ae + '\'>'+addy_t
 ext09ba349df5b1acfc329bfb8708a359ae+'<\/a>';
		</script>&nbsp; oder Tel. 04
 372-8060526.<br />Wir würden uns freuen, Sie zum 1.Vortrag begrüßen zu könn
 en. <strong>Es gilt die 3G Regel (Test 24 h) und Maskenpflicht bis zum Sitz
 platz</strong>.</p>
DTSTAMP:20260422T130344
DTSTART:20211014T173000
SEQUENCE:0
TRANSP:OPAQUE
END:VEVENT
END:VCALENDAR