BEGIN:VCALENDAR
VERSION:2.0
PRODID:-//jEvents 2.0 for Joomla//EN
CALSCALE:GREGORIAN
METHOD:PUBLISH
BEGIN:VEVENT
UID:a5b47a2d7a1dae11d966f67ce02bd033
CATEGORIES:Ernst Ludwig Kirchner e.V.
CREATED:20210925T202245
SUMMARY:Wanderung auf Kirchners Spuren
DESCRIPTION:Am 25.09.2021 führt Thomas Hillbrand vom Ernst Ludwig Kirchner Verein Fehma
 rn um 11 Uhr über das Huk, den Strand zum Leuchtturm, zu den Motivorten ELK
 s. \nTreffpunkt ist der Großparkplatz am Funkturm Staberhuk. Dauer: ca. 3,5
  Stunden (7 km). \nVoraussetzung: festes Schuhwerk. \nDie Führung ist koste
 nfrei, der Verein freut sich über eine Spende. Eine Anmeldung ist nicht nöt
 ig.\n
X-ALT-DESC;FMTTYPE=text/html:<p><span class="d2edcug0 hpfvmrgz qv66sw1b c1et5uql oi732d6d ik7dh3pa ht8s0
 3o8 a8c37x1j keod5gw0 nxhoafnm aigsh9s9 d3f4x2em fe6kdd0r mau55g9w c8b282yb
  iv3no6db jq4qci2q a3bd9o3v b1v8xokw oo9gr5id hzawbc8m" dir="auto">Am 25.09
 .2021 führt Thomas Hillbrand vom Ernst Ludwig Kirchner Verein Fehmarn um 11
  Uhr über das Huk, den Strand zum Leuchtturm, zu den Motivorten ELKs. <br /
 >Treffpunkt ist der Großparkplatz am Funkturm Staberhuk. Dauer: ca. 3,5 Stu
 nden (7 km). <br />Voraussetzung: festes Schuhwerk. <br />Die Führung ist k
 ostenfrei, der Verein freut sich über eine Spende. Eine Anmeldung ist nicht
  nötig.</span></p>
DTSTAMP:20260422T084054
DTSTART:20210925T090000
SEQUENCE:0
TRANSP:OPAQUE
END:VEVENT
END:VCALENDAR