BEGIN:VCALENDAR
VERSION:2.0
PRODID:-//jEvents 2.0 for Joomla//EN
CALSCALE:GREGORIAN
METHOD:PUBLISH
BEGIN:VEVENT
UID:9c26430b8ee41c9b6b9d30a394dd1d2f
CATEGORIES:Allgemein
CREATED:20210830T135731
SUMMARY:Kulinarische Fahrradtour nach Dänemark
DESCRIPTION:Eine kulinarische Fahrradtour nach Dänemark– AUSGEBUCHT –auf die Insel Loll
 and steht am Samstag, 25.09. auf dem Programm, die der fehmaraner Fahrradgu
 ide Claus Rahmberg ab Puttgarden führen wird. \nVon Rødbyhavn aus geht es g
 emeinsam weiter mit der von Susan Daniels geführten Gruppe zum Herrengut En
 gestofte am Søndersø, einem idyllischen See bei Maribo. Dort findet Madens 
 Folkemøde statt, wo zum Schlemmen und Entdecken einladen wird. An unzählige
 n Ständen drinnen und draußen werden viele Produkte der Region wie Fleisch,
  Käse, Fisch, Getränke, Backwaren, Schokolade und vieles mehr angeboten.\nA
 uf dem ungefähr zweistündigen Weg ist eine Verschnaufpause vorgesehen, um d
 ann die Zeit auf dem Madens Folkemøde genießen zu können. Dieser Ausflug fi
 ndet im Rahmen des Kulturherbstes Fehmarnbelt statt, einem von kultKIT gefö
 rderten Programm zur Intensivierung der deutsch-dänischen Beziehung und ist
  mit Teilnahme und Transfer kostenfrei. Daher ist eine Anmeldung bis zum 17
 .09.2021 in diesem Fall unbedingt notwendig unter Diese E-Mail-Adresse ist 
 vor Spambots geschützt! Zur Anzeige muss JavaScript eingeschaltet sein!
			
 	document.getElementById('cloakf1ae5d1588907ee3375ccb005b71dc9b').innerHTML
  = '';
				var prefix = '&#109;a' + 'i&#108;' + '&#116;o';
				var path = '
 hr' + 'ef' + '=';
				var addyf1ae5d1588907ee3375ccb005b71dc9b = '&#105;nf&
 #111;' + '&#64;';
				addyf1ae5d1588907ee3375ccb005b71dc9b = addyf1ae5d1588
 907ee3375ccb005b71dc9b + 'f&#101;hm&#97;rnk&#117;lt&#117;r' + '&#46;' + 'd&
 #101;';
				var addy_textf1ae5d1588907ee3375ccb005b71dc9b = '&#105;nf&#111;
 ' + '&#64;' + 'f&#101;hm&#97;rnk&#117;lt&#117;r' + '&#46;' + 'd&#101;';docu
 ment.getElementById('cloakf1ae5d1588907ee3375ccb005b71dc9b').innerHTML += '
 <a ' + path + '\'' + prefix + ':' + addyf1ae5d1588907ee3375ccb005b71dc9b + 
 '\'>'+addy_textf1ae5d1588907ee3375ccb005b71dc9b+'';
		 oder Tel. 0171-62916
 20.\n
X-ALT-DESC;FMTTYPE=text/html:<h4>Eine kulinarische Fahrradtour nach Dänemark</h4><h4>– AUSGEBUCHT –</h4>
 <p>auf die Insel Lolland steht am Samstag, 25.09. auf dem Programm, die der
  fehmaraner Fahrradguide Claus Rahmberg ab Puttgarden führen wird. <br />Vo
 n Rødbyhavn aus geht es gemeinsam weiter mit der von Susan Daniels geführte
 n Gruppe zum Herrengut Engestofte am Søndersø, einem idyllischen See bei Ma
 ribo. Dort findet Madens Folkemøde statt, wo zum Schlemmen und Entdecken ei
 nladen wird. An unzähligen Ständen drinnen und draußen werden viele Produkt
 e der Region wie Fleisch, Käse, Fisch, Getränke, Backwaren, Schokolade und 
 vieles mehr angeboten.</p><p>Auf dem ungefähr zweistündigen Weg ist eine Ve
 rschnaufpause vorgesehen, um dann die Zeit auf dem Madens Folkemøde genieße
 n zu können. Dieser Ausflug findet im Rahmen des Kulturherbstes Fehmarnbelt
  statt, einem von kultKIT geförderten Programm zur Intensivierung der deuts
 ch-dänischen Beziehung und ist mit Teilnahme und Transfer kostenfrei. Daher
  ist eine Anmeldung bis zum 17.09.2021 in diesem Fall unbedingt notwendig u
 nter <span id="cloakf1ae5d1588907ee3375ccb005b71dc9b">Diese E-Mail-Adresse 
 ist vor Spambots geschützt! Zur Anzeige muss JavaScript eingeschaltet sein!
 </span><script type='text/javascript'>
				document.getElementById('cloakf1
 ae5d1588907ee3375ccb005b71dc9b').innerHTML = '';
				var prefix = '&#109;a'
  + 'i&#108;' + '&#116;o';
				var path = 'hr' + 'ef' + '=';
				var addyf1a
 e5d1588907ee3375ccb005b71dc9b = '&#105;nf&#111;' + '&#64;';
				addyf1ae5d1
 588907ee3375ccb005b71dc9b = addyf1ae5d1588907ee3375ccb005b71dc9b + 'f&#101;
 hm&#97;rnk&#117;lt&#117;r' + '&#46;' + 'd&#101;';
				var addy_textf1ae5d15
 88907ee3375ccb005b71dc9b = '&#105;nf&#111;' + '&#64;' + 'f&#101;hm&#97;rnk&
 #117;lt&#117;r' + '&#46;' + 'd&#101;';document.getElementById('cloakf1ae5d1
 588907ee3375ccb005b71dc9b').innerHTML += '<a ' + path + '\'' + prefix + ':'
  + addyf1ae5d1588907ee3375ccb005b71dc9b + '\'>'+addy_textf1ae5d1588907ee337
 5ccb005b71dc9b+'<\/a>';
		</script> oder Tel. 0171-6291620.</p>
DTSTAMP:20260422T101600
DTSTART;VALUE=DATE:20210925
DTEND;VALUE=DATE:20210926
SEQUENCE:0
TRANSP:OPAQUE
END:VEVENT
END:VCALENDAR