BEGIN:VCALENDAR
VERSION:2.0
PRODID:-//jEvents 2.0 for Joomla//EN
CALSCALE:GREGORIAN
METHOD:PUBLISH
BEGIN:VEVENT
UID:adb20faa53fd60e0ea01018eadd0dd47
CATEGORIES:Kulturevent
CREATED:20210828T192539
SUMMARY:St. Nikolai: Violinen- und Orgelkonzert
LOCATION:St. Nikolai-Kirche Burg
DESCRIPTION:<div class="page" title="Page 1"><div class="layoutArea"><div class="column
 "><p>Zu einem Violinen- und Orgelkonzert lädt die evangelische Kirchengemei
 nde Burg am 31. August ein. Anita Swiatek (Violine) und Henning Rasch (Orge
 l) nehmen die Besucher mit auf eine Reise durch die letzten Jahrhunderte: A
 b 19.30 Uhr erklingen in der St.-Nikolai-Kirche Werke von Johann Sebastian 
 Bach, Giuseppe Tartini, Antonio Lotti und anderen. Neben klassischen Stücke
 n werden auch modernere im Stil der Kaffeehaus- beziehungsweise Salonmusik 
 präsentiert. <br />Der Eintritt zum Konzert ist frei, um Spenden für die Ki
 rchenmusik wird gebeten. Alle Besucher werden gebeten, sich an die geltende
 n Coronaregeln zu halten.</p></div></div></div>
DTSTAMP:20260422T083455
DTSTART:20210831T173000
SEQUENCE:0
TRANSP:OPAQUE
END:VEVENT
END:VCALENDAR