BEGIN:VCALENDAR
VERSION:2.0
PRODID:-//jEvents 2.0 for Joomla//EN
CALSCALE:GREGORIAN
METHOD:PUBLISH
BEGIN:VEVENT
UID:3fd43e38f0a1e623bb2bd99237ef1cba
CATEGORIES:Kulturevent
CREATED:20210808T231535
SUMMARY:Neue Fehmarnsche Geschichten von Kirchen auf Fehmarn
DESCRIPTION:<p><strong>Donnerstag, 12.08.21 um 20 Uhr</strong><br />„Neue Fehmarnsche G
 eschichten von Kirchen auf Fehmarn“<br />(Pastor Dr. Martin Grahl) Musiker:
  Eckhard Kretschmer</p>
DTSTAMP:20260422T112658
DTSTART:20210812T180000
SEQUENCE:0
TRANSP:OPAQUE
END:VEVENT
END:VCALENDAR