BEGIN:VCALENDAR
VERSION:2.0
PRODID:-//jEvents 2.0 for Joomla//EN
CALSCALE:GREGORIAN
METHOD:PUBLISH
BEGIN:VEVENT
UID:e7b259f581f4f0374a36a48c8546310e
CATEGORIES:Kulturevent
CREATED:20210627T195404
SUMMARY: Natur-Lese-Fest-Fehmarn: Ulrike Draesner
LOCATION:St. Nikolai-Kirche (voraussichtlich)
DESCRIPTION:<p>Ulrike Draesner ist eine Grenzgängerin zwischen den Genres, zwischen Fik
 tion und Wissenschaft, Okzident und Orient.<br />Am 27. August 2021 liest s
 ie um 20 Uhr im Rahmen des Natur-Lese-Festes Fehmarn in der St. Nikolai Kir
 che in Burg auf Fehmarn.</p><p>1995 erschien ihr erstes Buch „gedächtnissch
 leifen“, ein Gedichtband. Ihm folgten seither in stetem Wechsel Romane, Erz
 ählbände, Essays und Poesie. In jüngerer Zeit hat Draesner sich vermehrt de
 m Schreiben von Natur und Orten zugewandt (Mein Hiddensee, 2015, London–Lie
 blingsorte, 2016), sie veröffentlichte ein Mémoir (Eine Frau wird älter, 20
 18) sowie die Novelle Kanalschwimmer (2019). Nach dem preisgekrönten Roman 
 Sieben Sprünge vom Rand der Welt (2014) erschien im August 2020 mit Schwitt
 ers der zweite Teil ihrer großen Trilogie über Flucht und Vertreibung, für 
 den sie den Bayerischen Buchpreis 2020 erhielt. Des Weiteren erhielt sie 20
 20 den Deutschen Preis für Nature Writing für ihre Erzählung „Radio Silence
 “, aus der sie auch auf Fehmarn lesen wird. Die Lesung auf Fehmarn ist zwei
 geteilt, das Thema Nature Writing steht im Vordergrund aber auch die Kunstf
 reunde kommen nicht zu kurz, denn im zweiten Teil ihrer Lesung in St. Nikol
 ai liest sie aus ihrem letzten Roman Schwitters. Draesner gehört zu den umt
 riebigsten Schriftstellerinnen der deutschen Gegenwartsliteratur. Ihr gelin
 gt es immer wieder „hohes theoretisches Bewusstsein“ mit genauen naturkundl
 ichen und zeitgeschichtlichen Kenntnissen zu verknüpfen. Ihre außerordentli
 che Nähe zur wahrgenommen Mitwelt, die sie in ihren Texten spiegelt, sind e
 in hervorragendes Beispiel für zeitgenössisches Nature Writing.</p><p>Der D
 eutsche Preis für Nature Writing der Stiftung Nantesbuch Kunst und Natur un
 d des Verlags Matthes &amp; Seitz wurde 2020 zum vierten Mal vergeben. Er i
 st mit 10.000 Euro sowie einem sechswöchigen Schreibaufenthalt in den Räuml
 ichkeiten der Stiftung Nantesbuch dotiert.</p><p>Ulrike Draesner<br />Termi
 n: 27.8.2021<br />Ort: St. Nikolai Kirche<br />Zeit: 20 Uhr<br />Eintritt: 
 16 € Vorverkauf, Abendkasse 18 €<br />Vorkauf: Inselbuchhandlung Tina Rauer
 t, Buchhandlung Niederlechner, TSF</p><p>Ein negatives Covid-19-Testergebni
 s oder Impfung oder nachweislich genesen und Mundnasenschutz sind verpflich
 tend.</p>
CONTACT:kirchnervereinfehmarn.de | fehmarn.de
DTSTAMP:20260422T083445
DTSTART:20210827T180000
SEQUENCE:0
TRANSP:OPAQUE
END:VEVENT
END:VCALENDAR