BEGIN:VCALENDAR
VERSION:2.0
PRODID:-//jEvents 2.0 for Joomla//EN
CALSCALE:GREGORIAN
METHOD:PUBLISH
BEGIN:VEVENT
UID:700a6aee45315217e75f5abf9f73d3e1
CATEGORIES:Kulturevent
CREATED:19700101T010000
SUMMARY:Jahresausstellung "Jo Kley. Ein Kosmos. Stein."
LOCATION:Senator-Thomsen-Haus\, Burg\, Breite Str. 28\, 23769 Fehmarn
DESCRIPTION:<p>Die Jahresausstellung des Ernst Ludwig Kirchner Vereins Fehmarn e.V. im 
 Senator-Thomsen-Haus und der St. Nikolai Kirche präsentiert eine Auswahl au
 s dem umfangreichen Skulpturenwerk des Künsters<br />Seit 25 Jahren erschaf
 ft Jo Kley Skulpturen, die heute auf der ganzen Welt zu finden sind. Kleys 
 Gespür für den Stein erweckt diesen unvergänglichen und doch so metamorphen
  Stoff des Kosmos zum Leben.<br />Die Ausstellung ist geplant vom 11.09. bi
 s 28.10.2021 täglich von 11:00 bis 18:00 Uhr,<br />Hinweis:<br />Aufgrund d
 es aktuellen Infektionsgeschehens rund um das Corona-Virus weisen wir darau
 f hin, dass geplante Veranstaltungen auch kurzfristig verschoben oder abges
 agt werden können oder mit einem veränderten Konzept stattfinden. Wir bitte
 n um Verständnis.</p>
CONTACT:kirchnervereinfehmarn.de
DTSTAMP:20260422T051819
DTSTART:20210911T090000
DTEND:20211028T150000
SEQUENCE:0
RRULE:FREQ=DAILY;UNTIL=20210912T000000Z;INTERVAL=1
TRANSP:OPAQUE
END:VEVENT
END:VCALENDAR