BEGIN:VCALENDAR
VERSION:2.0
PRODID:-//jEvents 2.0 for Joomla//EN
CALSCALE:GREGORIAN
METHOD:PUBLISH
BEGIN:VEVENT
UID:06d22184c736d7ebac7fc777c09cff00
CATEGORIES:Kulturevent
CREATED:20240620T175035
SUMMARY:Konzert am Petersdorfer Dorfteich mit "Rockboat"
LOCATION:Petersdorf am Dorfteich
DESCRIPTION:<p>&nbsp;Konzert mit der Band "Rockboat", <br />für das leibliche Wohl sorg
 t die IG Petersdorf, <br />bei schlechtem Wetter in Haltermann`s Scheune, i
 n der Hauptstr. in Petersdorf<br /><br /></p>
CONTACT:fehmarn.de
DTSTAMP:20260419T155338
DTSTART:20240802T170000
DTEND:20240802T193000
SEQUENCE:0
TRANSP:OPAQUE
END:VEVENT
END:VCALENDAR