BEGIN:VCALENDAR
VERSION:2.0
PRODID:-//jEvents 2.0 for Joomla//EN
CALSCALE:GREGORIAN
METHOD:PUBLISH
BEGIN:VEVENT
UID:b1783f9d2d9055089b048b04694b268f
CATEGORIES:Kulturevent
CREATED:20230908T223154
SUMMARY:frutti dell'improvvisazione - Orgelkonzert mit Joachim Thoms
LOCATION:Kirche St. Johannis\, An der Kirche 4\, Petersdorf auf Fehmarn
DESCRIPTION:<h4>frutti dell'improvvisazione - Orgelkonzert mit Joachim Thoms</h4><p>Liv
 e Video-U?bertragung vom Orgel-Spieltisch<br /><br /> Willkommen zu einem i
 talienischen Konzerterlebnis mit mediterranem Flair. Der bekannte Improvisa
 tionsku?nstler Joachim Thoms improvisiert fu?r Sie u?ber beru?hmte Themen v
 on Claudio Monteverdi, Girolamo Frescobaldi, Vivaldi, bis hin zu Themen ita
 lienischer Opern des siebzehnten bis 19. Jahrhunderts. Die Stu?cke werden i
 m Stile der Renaissance, des Barocks, der Romantik, des Impressionismus bis
  hin zum Jazz pra?sentiert. Sie treffen gute alte Bekannte wieder wie das C
 oncerto in G von Vivaldi, die Arie lascia ch'io pianga von Ha?ndel , Verdis
  Gefangenenchor bis hin zum Jazz Song „Tu vuo' Fa L' Americano“</p><p>Diens
 tag, 12. September 2023, 20:00 Uhr<br />Kirche St. Johannis, An der Kirche 
 4, 23769 Petersdorf auf Fehmarn</p>
DTSTAMP:20260419T155206
DTSTART:20230912T180000
SEQUENCE:0
TRANSP:OPAQUE
END:VEVENT
END:VCALENDAR