BEGIN:VCALENDAR
VERSION:2.0
PRODID:-//jEvents 2.0 for Joomla//EN
CALSCALE:GREGORIAN
METHOD:PUBLISH
BEGIN:VEVENT
UID:301072a4fb9a27527c6f2da7722721dc
CATEGORIES:Kulturevent
CREATED:20230817T225027
SUMMARY:Gottesdienst Jimi Hendrix „Fehmarn 70“
LOCATION:St.-Nikolai-Kirche\, Burg\, Breite Str. 47
DESCRIPTION:<p><strong>Gottesdienst zum Abschluss der Jimi Hendrix „Fehmarn 70“ Ausstel
 lung</strong></p><p>Am 08.10.23 findet ein Jimi Hendrix Gottesdient in der 
 St. Nikolai in Burg auf Fehmarn um 10:00 Uhr statt, der mit von dem Kirchen
 chor präsentierten Musik von Hendrix begleitet wird.</p><p>Ausstellung vom 
 02.09.23 bis 08.10.23<br />im Senator Thomsen Haus, Breite Straße 28 in Bur
 g a. Fehmarn</p><p>Fotografien von Wolfgang Gau und Brigitte &amp; Hans-Jür
 gen Tast sowie Siebdrucke von Hajo Schulpius erzählen die Geschichte vom Lo
 ve &amp; Peace Festival 1970 auf Fehmarn. Ein Festival, das in die Geschich
 te einging.</p><p>Love &amp; Peace auf Fehmarn 70: Regen, Chaos, rote Zahle
 n … und Jimi Hendrix, der bedeutendste und einflußreichste Gitarrist auf de
 r Welt kommt von Dänemark nach Fehmarn.</p><p>&nbsp;</p>
CONTACT:kirchnerverein.de
DTSTAMP:20260419T122211
DTSTART:20231008T080000
DTEND:20231008T090000
SEQUENCE:0
TRANSP:OPAQUE
END:VEVENT
END:VCALENDAR