BEGIN:VCALENDAR
VERSION:2.0
PRODID:-//jEvents 2.0 for Joomla//EN
CALSCALE:GREGORIAN
METHOD:PUBLISH
BEGIN:VEVENT
UID:4189eea8e6de20e84edc3c4985dc7c92
CATEGORIES:Kulturevent
CREATED:20230314T221533
SUMMARY:Lesung am Petersdorfer Dorfteich mit Janne Momsen
LOCATION:Petersdorfer Dorfteich
DESCRIPTION:Lesung am Petersdorfer Dorfteich mit Janne Momsen\n03.08.23\n Einlass 15.00
  Uhr, Beginn 16.00 Uhr\nKaffee, Kuchen und Getränke\nVeranstalter: Tourismu
 s-Service Fehmarn und Verkehrsverein Fehmarn\n
X-ALT-DESC;FMTTYPE=text/html:<p>Lesung am Petersdorfer Dorfteich mit Janne Momsen<br />03.08.23<br /> Ei
 nlass 15.00 Uhr, Beginn 16.00 Uhr<br />Kaffee, Kuchen und Getränke</p><p>Ve
 ranstalter: Tourismus-Service Fehmarn und Verkehrsverein Fehmarn</p>
DTSTAMP:20260423T103714
DTSTART:20230803T140000
SEQUENCE:0
TRANSP:OPAQUE
END:VEVENT
END:VCALENDAR