BEGIN:VCALENDAR
VERSION:2.0
PRODID:-//jEvents 2.0 for Joomla//EN
CALSCALE:GREGORIAN
METHOD:PUBLISH
BEGIN:VEVENT
UID:df45c235c71f3db8e735ac88a5c8818d
CATEGORIES:Kulturevent
CREATED:20230314T220739
SUMMARY:Konzert am Petersdorfer Dorfteich
LOCATION:Petersdorfer Dorfteich
DESCRIPTION:Konzert am Petersdorfer Dorfteich mit\n Anchorinink - Maritimer Folk Rock\n
 26.05.2023 um 19.00 Uhr\nFür das leibliche Wohl ist gesorgt!\nVeranstalter:
  Verkehrsverein West und IG Petersdorf)\n
X-ALT-DESC;FMTTYPE=text/html:<p>Konzert am Petersdorfer Dorfteich mit<br /> Anchorinink - Maritimer Folk
  Rock</p><p>26.05.2023 um 19.00 Uhr</p><p>Für das leibliche Wohl ist gesorg
 t!</p><p>Veranstalter: Verkehrsverein West und IG Petersdorf)</p>
DTSTAMP:20260420T225533
DTSTART:20230526T170000
SEQUENCE:0
TRANSP:OPAQUE
END:VEVENT
END:VCALENDAR