BEGIN:VCALENDAR
VERSION:2.0
PRODID:-//jEvents 2.0 for Joomla//EN
CALSCALE:GREGORIAN
METHOD:PUBLISH
BEGIN:VEVENT
UID:5e53dc25f5ee4768c45de9c020642fa7
CATEGORIES:Allgemein
CREATED:20221019T232737
SUMMARY:Lappland - Natur und Gesellschaft im Wandel
LOCATION:Haus im Stadtpark\, Burg\, Bahnhofstr. 45\, 23769 Fehmarn
DESCRIPTION:<p>Lappland - Natur und Gesellschaft im Wandel</p><p>Prof. Dr. Manfred Bölt
 er</p><p>Institut für Ökosystemforschung</p><p>Universitätsgesellschaft Sek
 tion Fehmarn</p><p>&nbsp;</p><p>Am Do. 10.11.2022 um 19.30 Uhr im Haus im S
 tadtpark, Bahnhofstr. 45 a<br />findet ein Vortrag der Universitätsgesellsc
 haft statt. <br />Prof. Dr. Manfred Bölter vom Institut für Ökosystemforsch
 ung der Universität Kiel spricht zum Thema: Lappland – Natur und Gesellscha
 ft im Wandel.<br />Natur und Gesellschaft befinden sich in Nordskandinavien
  in großen Veränderungen. Es sind bedeutende Einflüsse in den Nutzungen der
  Landschaft durch neue Weisen der Rentierwirtschaft, durch den zunehmenden 
 Tourismus und die intensivierte Holzwirtschaft feststellbar. Die Europäisch
 e Kommission förderte zur Untersuchung der sozialökonomischen und biologisc
 hen Verhältnisse und Konflikte in Lappland ein umfangreiches Projekt, desse
 n Ergebnisse hier vorgestellt werden sollen. Es sind dies Berichte aus dem 
 botanisch-bodenkundlichen Bereich wie auch Modelle und Szenarien zum Manage
 ment eines Lebensraumes. Mit ihrer Hilfe sollen zukünftige Entwicklungen be
 leuchtet werden und als Entscheidungshilfen den Menschen vor Ort, den Sami,
  dienen, den Lebensraum der Finnmark und die kulturellen Wurzeln ihres Volk
 es zu erhalten.<br />Gäste sind herzlich willkommen, für Mitglieder ist der
  Eintritt frei, Gäste zahlen bitte 5,-€.</p>
DTSTAMP:20260425T140408
DTSTART:20221110T183000
SEQUENCE:0
TRANSP:OPAQUE
END:VEVENT
END:VCALENDAR