BEGIN:VCALENDAR
VERSION:2.0
PRODID:-//jEvents 2.0 for Joomla//EN
CALSCALE:GREGORIAN
METHOD:PUBLISH
BEGIN:VEVENT
UID:71004aadb0fa258e98b2a1dea73c788d
CATEGORIES:Allgemein
CREATED:20220825T132434
SUMMARY:Wasserstoff – naive Träumerei oder Lösung der Probleme?
LOCATION:Haus im Stadtpark in Burg\, Bahnhofstr. 45 a
DESCRIPTION:Mit dieser Veranstaltung beginnt eine Reihe von sieben Vorträgen im Herbst-
 /Winterhalbjahr der Schleswig-Holsteinischen Universitäts-Gesellschaft Sekt
 ion Fehmarn.\nProf. Dr. Volkmar Helbig: Wasserstoff – naive Träumerei oder 
 Lösung der Probleme?Wasserstoff als Energie für die Zukunft ist schon seit 
 den 80er Jahren des letzten Jahrhunderts ein Thema. Prof. Helbig, der uns s
 chon von vielen Vorträgen bekannt ist, wird der Frage nachgehen, weshalb di
 ese Idee seither nicht umgesetzt wurde. Er wird die physikalischen Grundlag
 en und die aktuell diskutierten Anwendungen von Wasserstoff in Industrie, V
 erkehr und Energiewirtschaft erläutern.\nDonnerstag 08.09.2022, 19.30 Uhr\n
 Haus im Stadtpark in Burg, Bahnhofstr. 45 a\nGäste sind herzlich willkommen
 .\nEs gelten die aktuellen Corona Regeln. \n\nDas Vorstandsteam der Schlesw
 ig-Holsteinischen Universitäts-Gesellschaft Sektion Fehmarn freut sich auf 
 Ihren Besuch!\nSilke Struve-Blanck, Hermann Becker, Peter Jirjahlke und Kla
 us- D. Blanck\n
X-ALT-DESC;FMTTYPE=text/html:<p>Mit dieser Veranstaltung beginnt eine Reihe von sieben Vorträgen im Herb
 st-/Winterhalbjahr der Schleswig-Holsteinischen Universitäts-Gesellschaft S
 ektion Fehmarn.</p><h4>Prof. Dr. Volkmar Helbig: Wasserstoff – naive Träume
 rei oder Lösung der Probleme?</h4><p>Wasserstoff als Energie für die Zukunf
 t ist schon seit den 80er Jahren des letzten Jahrhunderts ein Thema. Prof. 
 Helbig, der uns schon von vielen Vorträgen bekannt ist, wird der Frage nach
 gehen, weshalb diese Idee seither nicht umgesetzt wurde. Er wird die physik
 alischen Grundlagen und die aktuell diskutierten Anwendungen von Wasserstof
 f in Industrie, Verkehr und Energiewirtschaft erläutern.</p><p>Donnerstag 0
 8.09.2022, 19.30 Uhr<br />Haus im Stadtpark in Burg, Bahnhofstr. 45 a</p><p
 >Gäste sind herzlich willkommen.<br />Es gelten die aktuellen Corona Regeln
 . <br /><br />Das Vorstandsteam der Schleswig-Holsteinischen Universitäts-G
 esellschaft Sektion Fehmarn freut sich auf Ihren Besuch!<br />Silke Struve-
 Blanck, Hermann Becker, Peter Jirjahlke und Klaus- D. Blanck</p>
DTSTAMP:20260421T053123
DTSTART:20220908T173000
SEQUENCE:0
TRANSP:OPAQUE
END:VEVENT
END:VCALENDAR