BEGIN:VCALENDAR
VERSION:2.0
PRODID:-//jEvents 2.0 for Joomla//EN
CALSCALE:GREGORIAN
METHOD:PUBLISH
BEGIN:VEVENT
UID:34d08ca9e463cadbd28fc773a2990f3f
CATEGORIES:Kulturevent
CREATED:20220720T222041
SUMMARY:Klassik trifft Musical
LOCATION:St. Johannis Petersdorf 
DESCRIPTION:<h2 class="padded">„Klassik trifft Musical“ Musical-Star Katrin Peters (Ges
 ang) und Manuel Kelber-Bender an Piano und Orgel</h2><section><p>St. Johann
 is Petersdorf, An der Kirche 4, 23769&nbsp;Stadt Fehmarn</p></section><sect
 ion class="infobox emphasize"><p><br />26.07.2022 | 20:00</p><dl><dd><div>S
 t. Johannis Petersdorf <br />An der Kirche 4 <br /> 23769 Stadt Fehmarn<br 
 /><br /><a href="https://www.kirche-fehmarn.de/detail-veranstaltung/veranst
 altung/petersdorfer-konzert-andachten-musical-stars-katrin-peters-und-manue
 l-kelber-bender-an-piano-und-orgel.html">https://www.kirche-fehmarn.de/deta
 il-veranstaltung/veranstaltung/petersdorfer-konzert-andachten-musical-stars
 -katrin-peters-und-manuel-kelber-bender-an-piano-und-orgel.html</a></div></
 dd></dl></section>
DTSTAMP:20260420T170924
DTSTART:20220726T180000
SEQUENCE:0
TRANSP:OPAQUE
END:VEVENT
END:VCALENDAR