BEGIN:VCALENDAR
VERSION:2.0
PRODID:-//jEvents 2.0 for Joomla//EN
CALSCALE:GREGORIAN
METHOD:PUBLISH
BEGIN:VEVENT
UID:c45965a4c4db3880051948b18f82a9d6
CATEGORIES:Kulturevent
CREATED:20220712T145022
SUMMARY: Schleswig-Holstein Musik Festival - Brahms-Quartette
DESCRIPTION:Lange hat sich Johannes Brahms mit der Komposition eines Streichquartetts s
 chwergetan, galt jene Gattung seinerzeit doch als Königsklasse der Kammermu
 sik. Bereits zu Papier Gebrachtes schrieb er um, strich es durch und verwar
 f es schließlich endgültig. Es heißt, er habe 20 frühe Quartette einfach ve
 rbrannt. »Es ist nicht schwer, zu komponieren, aber es ist fabelhaft schwer
 , die überflüssigen Noten unter den Tisch fallen zu lassen«, klagte Johanne
 s Brahms während der Arbeit an den Quartetten Opus 51 seinem Freund Theodor
  Billroth, dem berühmten Wiener Chirurgen, dem er sie schließlich auch widm
 ete – nicht ohne in diesem Zusammenhang immer noch von einer »Zangengeburt«
  gesprochen zu haben. Für den Zuhörer ist die Musik inspirierender Genuss, 
 für die Ausführenden allerdings harte Arbeit, denn die Quartette sind »fabe
 lhaft schwer« zu spielen. Brahms überschritt die Grenzen der damaligen Quar
 tettmusik, und so muten die Werke fast wie Orchesterkompositionen an. Für d
 as junge Esmé Quartett ist es Herausforderung und Ehre zugleich, sich diese
 n Schlüsselwerken im Rahmen der diesjährigen Komponistenretrospektive anzun
 ehmen.\nSt. Nikolai-Kirche / SHMF\n03.08.2022 um 19:30 Uhr\nBurg, Breite St
 raße 47, 23769 Fehmarn\n
X-ALT-DESC;FMTTYPE=text/html:<p class="typo-xxl header__line header__head">Lange hat sich Johannes Brahm
 s mit der Komposition eines Streichquartetts schwergetan, galt jene Gattung
  seinerzeit doch als Königsklasse der Kammermusik. Bereits zu Papier Gebrac
 htes schrieb er um, strich es durch und verwarf es schließlich endgültig. E
 s heißt, er habe 20 frühe Quartette einfach verbrannt. »Es ist nicht schwer
 , zu komponieren, aber es ist fabelhaft schwer, die überflüssigen Noten unt
 er den Tisch fallen zu lassen«, klagte Johannes Brahms während der Arbeit a
 n den Quartetten Opus 51 seinem Freund Theodor Billroth, dem berühmten Wien
 er Chirurgen, dem er sie schließlich auch widmete – nicht ohne in diesem Zu
 sammenhang immer noch von einer »Zangengeburt« gesprochen zu haben. Für den
  Zuhörer ist die Musik inspirierender Genuss, für die Ausführenden allerdin
 gs harte Arbeit, denn die Quartette sind »fabelhaft schwer« zu spielen. Bra
 hms überschritt die Grenzen der damaligen Quartettmusik, und so muten die W
 erke fast wie Orchesterkompositionen an. Für das junge Esmé Quartett ist es
  Herausforderung und Ehre zugleich, sich diesen Schlüsselwerken im Rahmen d
 er diesjährigen Komponistenretrospektive anzunehmen.</p><p><strong>St. Niko
 lai-Kirche / SHMF</strong></p><p>03.08.2022 um 19:30 Uhr<br />Burg, Breite 
 Straße 47, 23769 Fehmarn</p>
DTSTAMP:20260421T072248
DTSTART:20220803T173000
DTEND:20220803T190000
SEQUENCE:0
TRANSP:OPAQUE
END:VEVENT
END:VCALENDAR